BEGIN:VCALENDAR
VERSION:2.0
PRODID:-//eventon.com NONSGML v1.0//EN
CALSCALE:GREGORIAN
METHOD:PUBLISH
BEGIN:VEVENT
UID:69eab1b5a2113
DTSTAMP:20260423T235637Z
DTSTART:20200429T090000Z
DTEND:20200429T215000Z
LOCATION:La Boîte à Jouer / Théâtre en Miettes - Bègles (33)
SUMMARY:Mon oeil
DESCRIPTION:Mon oeil\nhttps://compagnie-l-aurore.com/events/mon-oeil-48/
URL:https://compagnie-l-aurore.com/events/mon-oeil-48/
END:VEVENT
END:VCALENDAR