BEGIN:VCALENDAR
VERSION:2.0
PRODID:-//eventon.com NONSGML v1.0//EN
CALSCALE:GREGORIAN
METHOD:PUBLISH
BEGIN:VEVENT
UID:69ea90aad90ce
DTSTAMP:20260423T213538Z
DTSTART:20200513T084500Z
DTEND:20200513T215000Z
LOCATION:Gujan Mestras (33)
SUMMARY:Mon oeil
DESCRIPTION:Mon oeil\nhttps://compagnie-l-aurore.com/events/mon-oeil-43/
URL:https://compagnie-l-aurore.com/events/mon-oeil-43/
END:VEVENT
END:VCALENDAR