BEGIN:VCALENDAR
VERSION:2.0
PRODID:-//eventon.com NONSGML v1.0//EN
CALSCALE:GREGORIAN
METHOD:PUBLISH
BEGIN:VEVENT
UID:69e79eda4417d
DTSTAMP:20260421T155922Z
DTSTART:20201104T093000Z
DTEND:20201104T225000Z
LOCATION:Lège-Cap Ferret (33)
SUMMARY:Mon oeil
DESCRIPTION:Mon oeil\nhttps://compagnie-l-aurore.com/events/mon-oeil-33/
URL:https://compagnie-l-aurore.com/events/mon-oeil-33/
END:VEVENT
END:VCALENDAR