BEGIN:VCALENDAR
VERSION:2.0
PRODID:-//eventon.com NONSGML v1.0//EN
CALSCALE:GREGORIAN
METHOD:PUBLISH
BEGIN:VEVENT
UID:69e71640b7f5d
DTSTAMP:20260421T061632Z
DTSTART:20210312T130000Z
DTEND:20210312T225000Z
LOCATION:Villefranche de Lonchat (24)
SUMMARY:Mon oeil
DESCRIPTION:Mon oeil\nhttps://compagnie-l-aurore.com/events/mon-oeil-25/
URL:https://compagnie-l-aurore.com/events/mon-oeil-25/
END:VEVENT
END:VCALENDAR