BEGIN:VCALENDAR
VERSION:2.0
PRODID:-//eventon.com NONSGML v1.0//EN
CALSCALE:GREGORIAN
METHOD:PUBLISH
BEGIN:VEVENT
UID:69e813cfbbb6e
DTSTAMP:20260422T001823Z
DTSTART:20200530T080000Z
DTEND:20200530T215000Z
LOCATION:Festival les Montagn&#039;arts - Valbonnais (38)
SUMMARY:La Fortune de Jeanne
DESCRIPTION:La Fortune de Jeanne\nhttps://compagnie-l-aurore.com/events/la-
 fortune-de-jeanne-15/
URL:https://compagnie-l-aurore.com/events/la-fortune-de-jeanne-15/
END:VEVENT
END:VCALENDAR