BEGIN:VCALENDAR
VERSION:2.0
PRODID:-//eventon.com NONSGML v1.0//EN
CALSCALE:GREGORIAN
METHOD:PUBLISH
BEGIN:VEVENT
UID:69e5866283245
DTSTAMP:20260420T015026Z
DTSTART:20210522T080000Z
DTEND:20210522T215000Z
LOCATION:Festival les Montagn&#039;arts - Valbonnais (38)
SUMMARY:La Fortune de Jeanne
DESCRIPTION:La Fortune de Jeanne\nhttps://compagnie-l-aurore.com/events/la-
 fortune-de-jeanne-2/
URL:https://compagnie-l-aurore.com/events/la-fortune-de-jeanne-2/
END:VEVENT
END:VCALENDAR