BEGIN:VCALENDAR
VERSION:2.0
PRODID:-//eventon.com NONSGML v1.0//EN
CALSCALE:GREGORIAN
METHOD:PUBLISH
BEGIN:VEVENT
UID:69ea53d6e1fc7
DTSTAMP:20260423T171606Z
DTSTART:20200808T150000Z
DTEND:20200808T215000Z
LOCATION:Saint Seurin (33)
SUMMARY:Le Cerf au Sabot d'Argent
DESCRIPTION:Le Cerf au Sabot d'Argent\nhttps://compagnie-l-aurore.com/event
 s/le-cerf-au-sabot-dargent-24/
URL:https://compagnie-l-aurore.com/events/le-cerf-au-sabot-dargent-24/
END:VEVENT
END:VCALENDAR