BEGIN:VCALENDAR
VERSION:2.0
PRODID:-//eventon.com NONSGML v1.0//EN
CALSCALE:GREGORIAN
METHOD:PUBLISH
BEGIN:VEVENT
UID:69e944023f731
DTSTAMP:20260422T215618Z
DTSTART:20201114T140000Z
DTEND:20201114T225000Z
LOCATION:Festival Les Lonchalants - Villefranche de Lonchat (24)
SUMMARY:Le Cerf au Sabot d'Argent
DESCRIPTION:Le Cerf au Sabot d'Argent\nhttps://compagnie-l-aurore.com/event
 s/le-cerf-au-sabot-dargent-16/
URL:https://compagnie-l-aurore.com/events/le-cerf-au-sabot-dargent-16/
END:VEVENT
END:VCALENDAR