BEGIN:VCALENDAR
VERSION:2.0
PRODID:-//eventon.com NONSGML v1.0//EN
CALSCALE:GREGORIAN
METHOD:PUBLISH
BEGIN:VEVENT
UID:69e6c7057134a
DTSTAMP:20260421T003829Z
DTSTART:20210708T103000Z
DTEND:20210708T215000Z
LOCATION:Saint-Genès-de-Lombaud (33)
SUMMARY:Le Cerf au Sabot d'Argent
DESCRIPTION:Le Cerf au Sabot d'Argent\nhttps://compagnie-l-aurore.com/event
 s/le-cerf-au-sabot-dargent-8/
URL:https://compagnie-l-aurore.com/events/le-cerf-au-sabot-dargent-8/
END:VEVENT
END:VCALENDAR