BEGIN:VCALENDAR
VERSION:2.0
PRODID:-//eventon.com NONSGML v1.0//EN
CALSCALE:GREGORIAN
METHOD:PUBLISH
BEGIN:VEVENT
UID:69ea3b8fafb17
DTSTAMP:20260423T153231Z
DTSTART:20211216T133000Z
DTEND:20211216T225000Z
LOCATION:Quai 9 Lanester (56)
SUMMARY:Sovann\,  la petite fille et les fantômes
DESCRIPTION:Sovann\,  la petite fille et les fantômes\nhttps://compagnie-l
 -aurore.com/events/sovann-la-petite-fille-et-les-fantomes-74/
URL:https://compagnie-l-aurore.com/events/sovann-la-petite-fille-et-les-fantomes-74/
END:VEVENT
END:VCALENDAR