BEGIN:VCALENDAR
VERSION:2.0
PRODID:-//eventon.com NONSGML v1.0//EN
CALSCALE:GREGORIAN
METHOD:PUBLISH
BEGIN:VEVENT
UID:69e8bdb8188ad
DTSTAMP:20260422T122320Z
DTSTART:20211214T133000Z
DTEND:20211214T225000Z
LOCATION:Quai 9 Lanester (56)
SUMMARY:Sovann\,  la petite fille et les fantômes
DESCRIPTION:Sovann\,  la petite fille et les fantômes\nhttps://compagnie-l
 -aurore.com/events/sovann-la-petite-fille-et-les-fantomes-72/
URL:https://compagnie-l-aurore.com/events/sovann-la-petite-fille-et-les-fantomes-72/
END:VEVENT
END:VCALENDAR