BEGIN:VCALENDAR
VERSION:2.0
PRODID:-//eventon.com NONSGML v1.0//EN
CALSCALE:GREGORIAN
METHOD:PUBLISH
BEGIN:VEVENT
UID:69e730d5eedd6
DTSTAMP:20260421T080957Z
DTSTART:20211213T133000Z
DTEND:20211213T225000Z
LOCATION:Quai 9 Lanester (56)
SUMMARY:Sovann\,  la petite fille et les fantômes
DESCRIPTION:Sovann\,  la petite fille et les fantômes\nhttps://compagnie-l
 -aurore.com/events/sovann-la-petite-fille-et-les-fantomes-70/
URL:https://compagnie-l-aurore.com/events/sovann-la-petite-fille-et-les-fantomes-70/
END:VEVENT
END:VCALENDAR