BEGIN:VCALENDAR
VERSION:2.0
PRODID:-//eventon.com NONSGML v1.0//EN
CALSCALE:GREGORIAN
METHOD:PUBLISH
BEGIN:VEVENT
UID:69e6f34855384
DTSTAMP:20260421T034720Z
DTSTART:20220325T081500Z
DTEND:20220325T225000Z
LOCATION:Salle Delteil / Festival Abracadabrantesque - Bègles (33)
SUMMARY:Sovann\,  la petite fille et les fantômes
DESCRIPTION:Sovann\,  la petite fille et les fantômes\nhttps://compagnie-l
 -aurore.com/events/sovann-la-petite-fille-et-les-fantomes-62/
URL:https://compagnie-l-aurore.com/events/sovann-la-petite-fille-et-les-fantomes-62/
END:VEVENT
END:VCALENDAR