BEGIN:VCALENDAR
VERSION:2.0
PRODID:-//eventon.com NONSGML v1.0//EN
CALSCALE:GREGORIAN
METHOD:PUBLISH
BEGIN:VEVENT
UID:69e81db803586
DTSTAMP:20260422T010040Z
DTSTART:20210619T140000Z
DTEND:20210619T215000Z
LOCATION:Le Polyèdre - Bazas (33)
SUMMARY:Sovann\,  la petite fille et les fantômes
DESCRIPTION:Sovann\,  la petite fille et les fantômes\nhttps://compagnie-l
 -aurore.com/events/sovann-la-petite-fille-et-les-fantomes-36/
URL:https://compagnie-l-aurore.com/events/sovann-la-petite-fille-et-les-fantomes-36/
END:VEVENT
END:VCALENDAR