BEGIN:VCALENDAR
VERSION:2.0
PRODID:-//eventon.com NONSGML v1.0//EN
CALSCALE:GREGORIAN
METHOD:PUBLISH
BEGIN:VEVENT
UID:69e6b790ea911
DTSTAMP:20260420T233232Z
DTSTART:20260606
DTEND:20260607
LOCATION:Festival Nuit Blanche - Alfortville (94)
SUMMARY:Le Banc
DESCRIPTION:\nhttps://compagnie-l-aurore.com/events/le-banc-20/
URL:https://compagnie-l-aurore.com/events/le-banc-20/
END:VEVENT
END:VCALENDAR