BEGIN:VCALENDAR
VERSION:2.0
PRODID:-//eventon.com NONSGML v1.0//EN
CALSCALE:GREGORIAN
METHOD:PUBLISH
BEGIN:VEVENT
UID:69e6b89cc48d7
DTSTAMP:20260420T233700Z
DTSTART:20260819
DTEND:20260820
LOCATION:Festival International de Théâtre de Rue d&#039;Aurillac
SUMMARY:Le Banc
DESCRIPTION:\nhttps://compagnie-l-aurore.com/events/le-banc-25/
URL:https://compagnie-l-aurore.com/events/le-banc-25/
END:VEVENT
END:VCALENDAR