BEGIN:VCALENDAR
VERSION:2.0
PRODID:-//eventon.com NONSGML v1.0//EN
CALSCALE:GREGORIAN
METHOD:PUBLISH
BEGIN:VEVENT
UID:69e6b7b25a811
DTSTAMP:20260420T233306Z
DTSTART:20260829
DTEND:20260830
LOCATION:Festival Malices et Merveilles - Beauvais (60)
SUMMARY:Le Banc
DESCRIPTION:\nhttps://compagnie-l-aurore.com/events/le-banc-21/
URL:https://compagnie-l-aurore.com/events/le-banc-21/
END:VEVENT
END:VCALENDAR