BEGIN:VCALENDAR
VERSION:2.0
PRODID:-//eventon.com NONSGML v1.0//EN
CALSCALE:GREGORIAN
METHOD:PUBLISH
BEGIN:VEVENT
UID:69e6b90e0d870
DTSTAMP:20260420T233854Z
DTSTART:20260704
DTEND:20260705
LOCATION:Festival Rues et Vous - Rions (33)
SUMMARY:Le Banc
DESCRIPTION:\nhttps://compagnie-l-aurore.com/events/le-banc-23/
URL:https://compagnie-l-aurore.com/events/le-banc-23/
END:VEVENT
END:VCALENDAR