BEGIN:VCALENDAR
VERSION:2.0
PRODID:-//eventon.com NONSGML v1.0//EN
CALSCALE:GREGORIAN
METHOD:PUBLISH
BEGIN:VEVENT
UID:69e6b8961223b
DTSTAMP:20260420T233654Z
DTSTART:20260613
DTEND:20260614
LOCATION:Festival Rues et Compagnie - Épinal (88)
SUMMARY:Le Banc
DESCRIPTION:\nhttps://compagnie-l-aurore.com/events/le-banc-22/
URL:https://compagnie-l-aurore.com/events/le-banc-22/
END:VEVENT
END:VCALENDAR