BEGIN:VCALENDAR
VERSION:2.0
PRODID:-//eventon.com NONSGML v1.0//EN
CALSCALE:GREGORIAN
METHOD:PUBLISH
BEGIN:VEVENT
UID:69e8b67796549
DTSTAMP:20260422T115223Z
DTSTART:20241209T093000Z
DTEND:20241209T225900Z
LOCATION:Communauté de Communes de Montesquieu (33)
SUMMARY:Sois et t'es toi
DESCRIPTION:\nhttps://compagnie-l-aurore.com/events/sois-et-tes-toi-6/var/r
 i-1.l-L1
URL:https://compagnie-l-aurore.com/events/sois-et-tes-toi-6/var/ri-1.l-L1
END:VEVENT
END:VCALENDAR