BEGIN:VCALENDAR
VERSION:2.0
PRODID:-//eventon.com NONSGML v1.0//EN
CALSCALE:GREGORIAN
METHOD:PUBLISH
BEGIN:VEVENT
UID:69ed81fedc01e
DTSTAMP:20260426T030950Z
DTSTART:20250217
DTEND:20250218
LOCATION:Espace Simone Signoret Cenon (33)
SUMMARY:Malis\,  la vieille femme et la joie
DESCRIPTION:\nhttps://compagnie-l-aurore.com/events/malis-la-vieille-femme-
 et-la-joie-4/
URL:https://compagnie-l-aurore.com/events/malis-la-vieille-femme-et-la-joie-4/
END:VEVENT
END:VCALENDAR