BEGIN:VCALENDAR
VERSION:2.0
PRODID:-//eventon.com NONSGML v1.0//EN
CALSCALE:GREGORIAN
METHOD:PUBLISH
BEGIN:VEVENT
UID:69ea53b23962c
DTSTAMP:20260423T171530Z
DTSTART:20251123T143000Z
DTEND:20251123T225900Z
LOCATION:Théâtre Le Comoedia - Marmande (47)
SUMMARY:Malis\,  la vieille femme et la joie
DESCRIPTION:\nhttps://compagnie-l-aurore.com/events/malis/
URL:https://compagnie-l-aurore.com/events/malis/
END:VEVENT
END:VCALENDAR