BEGIN:VCALENDAR
VERSION:2.0
PRODID:-//eventon.com NONSGML v1.0//EN
CALSCALE:GREGORIAN
METHOD:PUBLISH
BEGIN:VEVENT
UID:69e7dd36bc1ae
DTSTAMP:20260421T202526Z
DTSTART:20241202T131500Z
DTEND:20241202T225900Z
LOCATION:Communauté de Communes Sud Vendée Littoral - Saint-Michel-en-L&#039;Herm (85)
SUMMARY:La Fortune de Jeanne
DESCRIPTION:\nhttps://compagnie-l-aurore.com/events/la-fortune-de-jeanne-13
 7/var/ri-1.l-L1
URL:https://compagnie-l-aurore.com/events/la-fortune-de-jeanne-137/var/ri-1.l-L1
END:VEVENT
END:VCALENDAR