BEGIN:VCALENDAR
VERSION:2.0
PRODID:-//eventon.com NONSGML v1.0//EN
CALSCALE:GREGORIAN
METHOD:PUBLISH
BEGIN:VEVENT
UID:69e8281966006
DTSTAMP:20260422T014457Z
DTSTART:20240629T133000Z
DTEND:20240629T200000Z
LOCATION:Salle Culturelle de Casseuil (33)
SUMMARY:La Fabrique
DESCRIPTION:\nhttps://compagnie-l-aurore.com/events/la-fabrique/
URL:https://compagnie-l-aurore.com/events/la-fabrique/
END:VEVENT
END:VCALENDAR