BEGIN:VCALENDAR
VERSION:2.0
PRODID:-//eventon.com NONSGML v1.0//EN
CALSCALE:GREGORIAN
METHOD:PUBLISH
BEGIN:VEVENT
UID:69e8dcfa3ba08
DTSTAMP:20260422T143642Z
DTSTART:20241026
DTEND:20241027
LOCATION:Internationales Figurentheater Festival à Munich (Allemagne)
SUMMARY:le banc
DESCRIPTION:\nhttps://compagnie-l-aurore.com/events/le-banc-10/var/ri-1.l-L
 1
URL:https://compagnie-l-aurore.com/events/le-banc-10/var/ri-1.l-L1
END:VEVENT
END:VCALENDAR