BEGIN:VCALENDAR
VERSION:2.0
PRODID:-//eventon.com NONSGML v1.0//EN
CALSCALE:GREGORIAN
METHOD:PUBLISH
BEGIN:VEVENT
UID:69eb93cc45077
DTSTAMP:20260424T160116Z
DTSTART:20230916T121500Z
DTEND:20230916T215000Z
LOCATION:Festival Off de Marionnettes de Charleville-Mézières (08)
SUMMARY:Le Banc
DESCRIPTION:\nhttps://compagnie-l-aurore.com/events/le-banc/
URL:https://compagnie-l-aurore.com/events/le-banc/
END:VEVENT
END:VCALENDAR