BEGIN:VCALENDAR
VERSION:2.0
PRODID:-//eventon.com NONSGML v1.0//EN
CALSCALE:GREGORIAN
METHOD:PUBLISH
BEGIN:VEVENT
UID:69ed6f64c9cf4
DTSTAMP:20260426T015028Z
DTSTART:20240208T170000Z
DTEND:20240208T123100Z
LOCATION:Service Culturel de Villenave d&#039;Ornon
SUMMARY:mon oeil
DESCRIPTION:\nhttps://compagnie-l-aurore.com/events/mon-oeil-72/var/ri-1.l-
 L1
URL:https://compagnie-l-aurore.com/events/mon-oeil-72/var/ri-1.l-L1
END:VEVENT
END:VCALENDAR