BEGIN:VCALENDAR
VERSION:2.0
PRODID:-//eventon.com NONSGML v1.0//EN
CALSCALE:GREGORIAN
METHOD:PUBLISH
BEGIN:VEVENT
UID:69ed869690a54
DTSTAMP:20260426T032926Z
DTSTART:20240208T090000Z
DTEND:20240208T225000Z
LOCATION:Service Culturel de Villenave d&#039;Ornon
SUMMARY:mon oeil
DESCRIPTION:\nhttps://compagnie-l-aurore.com/events/mon-oeil-72/
URL:https://compagnie-l-aurore.com/events/mon-oeil-72/
END:VEVENT
END:VCALENDAR