BEGIN:VCALENDAR
VERSION:2.0
PRODID:-//eventon.com NONSGML v1.0//EN
CALSCALE:GREGORIAN
METHOD:PUBLISH
BEGIN:VEVENT
UID:69ecfdf22f86b
DTSTAMP:20260425T174626Z
DTSTART:20221217T153000Z
DTEND:20221217T225000Z
LOCATION:Pavillon Buxerolles à Limoges (87)
SUMMARY:Le Cerf au Sabot d'Argent
DESCRIPTION:Le Cerf au Sabot d'Argent\nhttps://compagnie-l-aurore.com/event
 s/le-cerf-au-sabot-dargent-94/var/ri-1.l-L1
URL:https://compagnie-l-aurore.com/events/le-cerf-au-sabot-dargent-94/var/ri-1.l-L1
END:VEVENT
END:VCALENDAR