BEGIN:VCALENDAR
VERSION:2.0
PRODID:-//eventon.com NONSGML v1.0//EN
CALSCALE:GREGORIAN
METHOD:PUBLISH
BEGIN:VEVENT
UID:69e6caf51d5ba
DTSTAMP:20260421T005517Z
DTSTART:20221206T084500Z
DTEND:20221206T225000Z
LOCATION:La Halle - Lège Cap Ferret (33)
SUMMARY:Mon Oeil
DESCRIPTION:Mon Oeil\nhttps://compagnie-l-aurore.com/events/mon-oeil-68/
URL:https://compagnie-l-aurore.com/events/mon-oeil-68/
END:VEVENT
END:VCALENDAR