BEGIN:VCALENDAR
VERSION:2.0
PRODID:-//eventon.com NONSGML v1.0//EN
CALSCALE:GREGORIAN
METHOD:PUBLISH
BEGIN:VEVENT
UID:69e8a79e765b7
DTSTAMP:20260422T104902Z
DTSTART:20220928T100000Z
DTEND:20220928T140000Z
LOCATION:Mairie de La Réole Mairie\,  33190 La Réole
SUMMARY:Inscriptions aux ateliers de La Fabrique
DESCRIPTION:Inscriptions aux ateliers de La Fabrique\nhttps://compagnie-l-a
 urore.com/events/inscriptions-aux-ateliers-de-la-fabrique/
URL:https://compagnie-l-aurore.com/events/inscriptions-aux-ateliers-de-la-fabrique/
END:VEVENT
END:VCALENDAR