BEGIN:VCALENDAR
VERSION:2.0
PRODID:-//eventon.com NONSGML v1.0//EN
CALSCALE:GREGORIAN
METHOD:PUBLISH
BEGIN:VEVENT
UID:69e6e877d1d71
DTSTAMP:20260421T030111Z
DTSTART:20221025T090000Z
DTEND:20221025T215000Z
LOCATION:Théâtre des Beaux-Arts Bordeaux (33)
SUMMARY:Mon Oeil
DESCRIPTION:Mon Oeil\nhttps://compagnie-l-aurore.com/events/mon-oeil-65/
URL:https://compagnie-l-aurore.com/events/mon-oeil-65/
END:VEVENT
END:VCALENDAR