BEGIN:VCALENDAR
VERSION:2.0
PRODID:-//eventon.com NONSGML v1.0//EN
CALSCALE:GREGORIAN
METHOD:PUBLISH
BEGIN:VEVENT
UID:69ecc56c3a5e8
DTSTAMP:20260425T134516Z
DTSTART:20220625
DTEND:20220626
LOCATION:Salle socio-culturelle de Caudrot
SUMMARY:Festival La Fabrique
DESCRIPTION:Festival La Fabrique\nhttps://compagnie-l-aurore.com/events/fes
 tival-la-fabrique/
URL:https://compagnie-l-aurore.com/events/festival-la-fabrique/
END:VEVENT
END:VCALENDAR