BEGIN:VCALENDAR
VERSION:2.0
PRODID:-//eventon.com NONSGML v1.0//EN
CALSCALE:GREGORIAN
METHOD:PUBLISH
BEGIN:VEVENT
UID:69e6473be02be
DTSTAMP:20260420T153315Z
DTSTART:20220203
DTEND:20220204
LOCATION:Communauté de Communes du Bas Armagnac - Nogaro (32)
SUMMARY:En "résidence de territoire"
DESCRIPTION:En "résidence de territoire"\nhttps://compagnie-l-aurore.com/e
 vents/en-residence-de-territoire-3/
URL:https://compagnie-l-aurore.com/events/en-residence-de-territoire-3/
END:VEVENT
END:VCALENDAR