BEGIN:VCALENDAR
VERSION:2.0
PRODID:-//eventon.com NONSGML v1.0//EN
CALSCALE:GREGORIAN
METHOD:PUBLISH
BEGIN:VEVENT
UID:69e90b6e02975
DTSTAMP:20260422T175454Z
DTSTART:20221114
DTEND:20221115
LOCATION:Lacaze aux sottises - Orion (64)
SUMMARY:les absents
DESCRIPTION:les absents\nhttps://compagnie-l-aurore.com/events/les-absents-
 3/
URL:https://compagnie-l-aurore.com/events/les-absents-3/
END:VEVENT
END:VCALENDAR