BEGIN:VCALENDAR
VERSION:2.0
PRODID:-//eventon.com NONSGML v1.0//EN
CALSCALE:GREGORIAN
METHOD:PUBLISH
BEGIN:VEVENT
UID:69e9005b5ec01
DTSTAMP:20260422T170739Z
DTSTART:20221006
DTEND:20221007
LOCATION:Graines de Rue - Bessines sur Gartempe (87)
SUMMARY:les absents
DESCRIPTION:les absents\nhttps://compagnie-l-aurore.com/events/les-absents-
 2/
URL:https://compagnie-l-aurore.com/events/les-absents-2/
END:VEVENT
END:VCALENDAR