BEGIN:VCALENDAR
VERSION:2.0
PRODID:-//eventon.com NONSGML v1.0//EN
CALSCALE:GREGORIAN
METHOD:PUBLISH
BEGIN:VEVENT
UID:69e6400b720c6
DTSTAMP:20260420T150235Z
DTSTART:20141114T130000Z
DTEND:20141114T225000Z
LOCATION:Salle des Fêtes - Bernay (27)
SUMMARY:La Fortune de Jeanne
DESCRIPTION:La Fortune de Jeanne\nhttps://compagnie-l-aurore.com/events/la-
 fortune-de-jeanne-124/
URL:https://compagnie-l-aurore.com/events/la-fortune-de-jeanne-124/
END:VEVENT
END:VCALENDAR