BEGIN:VCALENDAR
VERSION:2.0
PRODID:-//eventon.com NONSGML v1.0//EN
CALSCALE:GREGORIAN
METHOD:PUBLISH
BEGIN:VEVENT
UID:69e69e647336d
DTSTAMP:20260420T214508Z
DTSTART:20150607T130000Z
DTEND:20150607T215000Z
LOCATION:Place J.F. Pintat - Soulac (33)
SUMMARY:La Fortune de Jeanne
DESCRIPTION:La Fortune de Jeanne\nhttps://compagnie-l-aurore.com/events/la-
 fortune-de-jeanne-117/
URL:https://compagnie-l-aurore.com/events/la-fortune-de-jeanne-117/
END:VEVENT
END:VCALENDAR