BEGIN:VCALENDAR
VERSION:2.0
PRODID:-//eventon.com NONSGML v1.0//EN
CALSCALE:GREGORIAN
METHOD:PUBLISH
BEGIN:VEVENT
UID:69ebdc4931f49
DTSTAMP:20260424T211033Z
DTSTART:20160617T150000Z
DTEND:20160617T215000Z
LOCATION:Jardin du Presbytère - Saint Martin de Sescas (33)
SUMMARY:La Fortune de Jeanne
DESCRIPTION:La Fortune de Jeanne\nhttps://compagnie-l-aurore.com/events/la-
 fortune-de-jeanne-83/
URL:https://compagnie-l-aurore.com/events/la-fortune-de-jeanne-83/
END:VEVENT
END:VCALENDAR