BEGIN:VCALENDAR
VERSION:2.0
PRODID:-//eventon.com NONSGML v1.0//EN
CALSCALE:GREGORIAN
METHOD:PUBLISH
BEGIN:VEVENT
UID:69e810b655156
DTSTAMP:20260422T000510Z
DTSTART:20160819T091500Z
DTEND:20160819T215000Z
LOCATION:Jardin des Carmes (Sequoïa) - Aurillac (15)
SUMMARY:La Fortune de Jeanne
DESCRIPTION:La Fortune de Jeanne\nhttps://compagnie-l-aurore.com/events/la-
 fortune-de-jeanne-71/
URL:https://compagnie-l-aurore.com/events/la-fortune-de-jeanne-71/
END:VEVENT
END:VCALENDAR