BEGIN:VCALENDAR
VERSION:2.0
PRODID:-//eventon.com NONSGML v1.0//EN
CALSCALE:GREGORIAN
METHOD:PUBLISH
BEGIN:VEVENT
UID:69e4ef919bbcd
DTSTAMP:20260419T150657Z
DTSTART:20170624T150000Z
DTEND:20170624T215000Z
LOCATION:Festival Côté Jardin - Podensac (33)
SUMMARY:La Fortune de Jeanne
DESCRIPTION:La Fortune de Jeanne\nhttps://compagnie-l-aurore.com/events/la-
 fortune-de-jeanne-66/
URL:https://compagnie-l-aurore.com/events/la-fortune-de-jeanne-66/
END:VEVENT
END:VCALENDAR