BEGIN:VCALENDAR
VERSION:2.0
PRODID:-//eventon.com NONSGML v1.0//EN
CALSCALE:GREGORIAN
METHOD:PUBLISH
BEGIN:VEVENT
UID:69ed6f649c1a1
DTSTAMP:20260426T015028Z
DTSTART:20170825T140000Z
DTEND:20170825T215000Z
LOCATION:Cour Tivoli 4 - La Couroucoucou - Aurillac (15)
SUMMARY:La Fortune de Jeanne
DESCRIPTION:La Fortune de Jeanne\nhttps://compagnie-l-aurore.com/events/la-
 fortune-de-jeanne-64/
URL:https://compagnie-l-aurore.com/events/la-fortune-de-jeanne-64/
END:VEVENT
END:VCALENDAR