BEGIN:VCALENDAR
VERSION:2.0
PRODID:-//eventon.com NONSGML v1.0//EN
CALSCALE:GREGORIAN
METHOD:PUBLISH
BEGIN:VEVENT
UID:69e53a5c75f3b
DTSTAMP:20260419T202604Z
DTSTART:20171221T130000Z
DTEND:20171221T225000Z
LOCATION:St Julien en Born (40)
SUMMARY:La Fortune de Jeanne
DESCRIPTION:La Fortune de Jeanne\nhttps://compagnie-l-aurore.com/events/la-
 fortune-de-jeanne-53/
URL:https://compagnie-l-aurore.com/events/la-fortune-de-jeanne-53/
END:VEVENT
END:VCALENDAR