BEGIN:VCALENDAR
VERSION:2.0
PRODID:-//eventon.com NONSGML v1.0//EN
CALSCALE:GREGORIAN
METHOD:PUBLISH
BEGIN:VEVENT
UID:69ecf404f3b5f
DTSTAMP:20260425T170404Z
DTSTART:20170622T083000Z
DTEND:20170622T215000Z
LOCATION:Festival Côté Jardin - Bonneville (24)
SUMMARY:Le Cerf au Sabot d'Argent
DESCRIPTION:Le Cerf au Sabot d'Argent\nhttps://compagnie-l-aurore.com/event
 s/le-cerf-au-sabot-dargent-83/
URL:https://compagnie-l-aurore.com/events/le-cerf-au-sabot-dargent-83/
END:VEVENT
END:VCALENDAR