BEGIN:VCALENDAR
VERSION:2.0
PRODID:-//eventon.com NONSGML v1.0//EN
CALSCALE:GREGORIAN
METHOD:PUBLISH
BEGIN:VEVENT
UID:69e5ab8403e16
DTSTAMP:20260420T042852Z
DTSTART:20170614T133000Z
DTEND:20170614T215000Z
LOCATION:Union Saint Bruno - Bordeaux (33)
SUMMARY:Le Cerf au Sabot d'Argent
DESCRIPTION:Le Cerf au Sabot d'Argent\nhttps://compagnie-l-aurore.com/event
 s/le-cerf-au-sabot-dargent-82/
URL:https://compagnie-l-aurore.com/events/le-cerf-au-sabot-dargent-82/
END:VEVENT
END:VCALENDAR