BEGIN:VCALENDAR
VERSION:2.0
PRODID:-//eventon.com NONSGML v1.0//EN
CALSCALE:GREGORIAN
METHOD:PUBLISH
BEGIN:VEVENT
UID:69e896e1d77dd
DTSTAMP:20260422T093737Z
DTSTART:20170617T150000Z
DTEND:20170617T215000Z
LOCATION:Foyer Rural - Morizès (33)
SUMMARY:Le Cerf au Sabot d'Argent
DESCRIPTION:Le Cerf au Sabot d'Argent\nhttps://compagnie-l-aurore.com/event
 s/le-cerf-au-sabot-dargent-81/
URL:https://compagnie-l-aurore.com/events/le-cerf-au-sabot-dargent-81/
END:VEVENT
END:VCALENDAR