BEGIN:VCALENDAR
VERSION:2.0
PRODID:-//eventon.com NONSGML v1.0//EN
CALSCALE:GREGORIAN
METHOD:PUBLISH
BEGIN:VEVENT
UID:69eced8a26ed8
DTSTAMP:20260425T163626Z
DTSTART:20170918T120000Z
DTEND:20170918T215000Z
LOCATION:Parc Churchill (côté Lycée) - Charleville-Mézières (06)
SUMMARY:Le Cerf au Sabot d'Argent
DESCRIPTION:Le Cerf au Sabot d'Argent\nhttps://compagnie-l-aurore.com/event
 s/le-cerf-au-sabot-dargent-72/
URL:https://compagnie-l-aurore.com/events/le-cerf-au-sabot-dargent-72/
END:VEVENT
END:VCALENDAR