BEGIN:VCALENDAR
VERSION:2.0
PRODID:-//eventon.com NONSGML v1.0//EN
CALSCALE:GREGORIAN
METHOD:PUBLISH
BEGIN:VEVENT
UID:69ec2ce690254
DTSTAMP:20260425T025430Z
DTSTART:20180623T143000Z
DTEND:20180623T215000Z
LOCATION:Jardin d&#039;agrément\,  situé derrière le château - Cadillac (33)
SUMMARY:Le Cerf au Sabot d'Argent
DESCRIPTION:Le Cerf au Sabot d'Argent\nhttps://compagnie-l-aurore.com/event
 s/le-cerf-au-sabot-dargent-61/
URL:https://compagnie-l-aurore.com/events/le-cerf-au-sabot-dargent-61/
END:VEVENT
END:VCALENDAR