BEGIN:VCALENDAR
VERSION:2.0
PRODID:-//eventon.com NONSGML v1.0//EN
CALSCALE:GREGORIAN
METHOD:PUBLISH
BEGIN:VEVENT
UID:69e744bb6cbde
DTSTAMP:20260421T093451Z
DTSTART:20190707T120000Z
DTEND:20190707T215000Z
LOCATION:Quai 9 Lanester (56)
SUMMARY:Le Cerf au Sabot d'Argent
DESCRIPTION:Le Cerf au Sabot d'Argent\nhttps://compagnie-l-aurore.com/event
 s/le-cerf-au-sabot-dargent-44/
URL:https://compagnie-l-aurore.com/events/le-cerf-au-sabot-dargent-44/
END:VEVENT
END:VCALENDAR