BEGIN:VCALENDAR
VERSION:2.0
PRODID:-//eventon.com NONSGML v1.0//EN
CALSCALE:GREGORIAN
METHOD:PUBLISH
BEGIN:VEVENT
UID:69ed8fab099a2
DTSTAMP:20260426T040811Z
DTSTART:20190821T131000Z
DTEND:20190821T215000Z
LOCATION:Collectif L&#039;Oasis - Cap Blanc (pastille 112) - Aurillac (15)
SUMMARY:Le Cerf au Sabot d'Argent
DESCRIPTION:Le Cerf au Sabot d'Argent\nhttps://compagnie-l-aurore.com/event
 s/le-cerf-au-sabot-dargent-40/
URL:https://compagnie-l-aurore.com/events/le-cerf-au-sabot-dargent-40/
END:VEVENT
END:VCALENDAR